BEGIN:VCALENDAR
VERSION:2.0
PRODID:-//ASV Miehlen 1976 e.V. - ECPv6.15.20//NONSGML v1.0//EN
CALSCALE:GREGORIAN
METHOD:PUBLISH
X-WR-CALNAME:ASV Miehlen 1976 e.V.
X-ORIGINAL-URL:https://asv-miehlen.com
X-WR-CALDESC:Veranstaltungen für ASV Miehlen 1976 e.V.
REFRESH-INTERVAL;VALUE=DURATION:PT1H
X-Robots-Tag:noindex
X-PUBLISHED-TTL:PT1H
BEGIN:VTIMEZONE
TZID:Europe/Berlin
BEGIN:DAYLIGHT
TZOFFSETFROM:+0100
TZOFFSETTO:+0200
TZNAME:CEST
DTSTART:20250330T010000
END:DAYLIGHT
BEGIN:STANDARD
TZOFFSETFROM:+0200
TZOFFSETTO:+0100
TZNAME:CET
DTSTART:20251026T010000
END:STANDARD
BEGIN:DAYLIGHT
TZOFFSETFROM:+0100
TZOFFSETTO:+0200
TZNAME:CEST
DTSTART:20260329T010000
END:DAYLIGHT
BEGIN:STANDARD
TZOFFSETFROM:+0200
TZOFFSETTO:+0100
TZNAME:CET
DTSTART:20261025T010000
END:STANDARD
BEGIN:DAYLIGHT
TZOFFSETFROM:+0100
TZOFFSETTO:+0200
TZNAME:CEST
DTSTART:20270328T010000
END:DAYLIGHT
BEGIN:STANDARD
TZOFFSETFROM:+0200
TZOFFSETTO:+0100
TZNAME:CET
DTSTART:20271031T010000
END:STANDARD
END:VTIMEZONE
BEGIN:VEVENT
DTSTART;TZID=Europe/Berlin:20260606T080000
DTEND;TZID=Europe/Berlin:20260606T120000
DTSTAMP:20260423T101057
CREATED:20260127T193118Z
LAST-MODIFIED:20260127T193118Z
UID:347-1780732800-1780747200@asv-miehlen.com
SUMMARY:Arbeitseinsatz (Fischerfest)
DESCRIPTION:
URL:https://asv-miehlen.com/event/arbeitseinsatz-fischerfest/
END:VEVENT
BEGIN:VEVENT
DTSTART;TZID=Europe/Berlin:20260608T170000
DTEND;TZID=Europe/Berlin:20260608T190000
DTSTAMP:20260423T101057
CREATED:20260127T193211Z
LAST-MODIFIED:20260127T193411Z
UID:349-1780938000-1780945200@asv-miehlen.com
SUMMARY:Arbeitseinsatz (Fischerfest)
DESCRIPTION:
URL:https://asv-miehlen.com/event/arbeitseinsatz-fischerfest-2/
END:VEVENT
BEGIN:VEVENT
DTSTART;TZID=Europe/Berlin:20260609T170000
DTEND;TZID=Europe/Berlin:20260609T190000
DTSTAMP:20260423T101057
CREATED:20260127T193258Z
LAST-MODIFIED:20260127T193400Z
UID:351-1781024400-1781031600@asv-miehlen.com
SUMMARY:Arbeitseinsatz (Fischerfest)
DESCRIPTION:
URL:https://asv-miehlen.com/event/arbeitseinsatz-fischerfest-3/
END:VEVENT
BEGIN:VEVENT
DTSTART;TZID=Europe/Berlin:20260610T170000
DTEND;TZID=Europe/Berlin:20260610T190000
DTSTAMP:20260423T101057
CREATED:20260127T193505Z
LAST-MODIFIED:20260127T193505Z
UID:354-1781110800-1781118000@asv-miehlen.com
SUMMARY:Arbeitseinsatz (Fischerfest)
DESCRIPTION:
URL:https://asv-miehlen.com/event/arbeitseinsatz-fischerfest-4/
END:VEVENT
BEGIN:VEVENT
DTSTART;TZID=Europe/Berlin:20260611T170000
DTEND;TZID=Europe/Berlin:20260611T190000
DTSTAMP:20260423T101057
CREATED:20260127T193524Z
LAST-MODIFIED:20260127T193524Z
UID:356-1781197200-1781204400@asv-miehlen.com
SUMMARY:Arbeitseinsatz (Fischerfest)
DESCRIPTION:
URL:https://asv-miehlen.com/event/arbeitseinsatz-fischerfest-5/
END:VEVENT
BEGIN:VEVENT
DTSTART;TZID=Europe/Berlin:20260612T170000
DTEND;TZID=Europe/Berlin:20260612T190000
DTSTAMP:20260423T101057
CREATED:20260127T193541Z
LAST-MODIFIED:20260127T193541Z
UID:358-1781283600-1781290800@asv-miehlen.com
SUMMARY:Arbeitseinsatz (Fischerfest)
DESCRIPTION:
URL:https://asv-miehlen.com/event/arbeitseinsatz-fischerfest-6/
END:VEVENT
BEGIN:VEVENT
DTSTART;TZID=Europe/Berlin:20260613T000000
DTEND;TZID=Europe/Berlin:20260614T235959
DTSTAMP:20260423T101057
CREATED:20260127T193658Z
LAST-MODIFIED:20260127T193658Z
UID:360-1781308800-1781481599@asv-miehlen.com
SUMMARY:Fischerfest
DESCRIPTION:
URL:https://asv-miehlen.com/event/fischerfest/
END:VEVENT
BEGIN:VEVENT
DTSTART;TZID=Europe/Berlin:20260615T170000
DTEND;TZID=Europe/Berlin:20260615T190000
DTSTAMP:20260423T101057
CREATED:20260127T193722Z
LAST-MODIFIED:20260127T193722Z
UID:362-1781542800-1781550000@asv-miehlen.com
SUMMARY:Arbeitseinsatz (Fischerfest)
DESCRIPTION:
URL:https://asv-miehlen.com/event/arbeitseinsatz-fischerfest-7/
END:VEVENT
BEGIN:VEVENT
DTSTART;TZID=Europe/Berlin:20260627T080000
DTEND;TZID=Europe/Berlin:20260627T120000
DTSTAMP:20260423T101057
CREATED:20260127T193826Z
LAST-MODIFIED:20260127T193931Z
UID:364-1782547200-1782561600@asv-miehlen.com
SUMMARY:Arbeitseinsatz
DESCRIPTION:
URL:https://asv-miehlen.com/event/arbeitseinsatz-fischerfest-8/
END:VEVENT
END:VCALENDAR