BEGIN:VCALENDAR
VERSION:2.0
PRODID:-//ASV Miehlen 1976 e.V. - ECPv6.15.20//NONSGML v1.0//EN
CALSCALE:GREGORIAN
METHOD:PUBLISH
X-WR-CALNAME:ASV Miehlen 1976 e.V.
X-ORIGINAL-URL:https://asv-miehlen.com
X-WR-CALDESC:Veranstaltungen für ASV Miehlen 1976 e.V.
REFRESH-INTERVAL;VALUE=DURATION:PT1H
X-Robots-Tag:noindex
X-PUBLISHED-TTL:PT1H
BEGIN:VTIMEZONE
TZID:Europe/Berlin
BEGIN:DAYLIGHT
TZOFFSETFROM:+0100
TZOFFSETTO:+0200
TZNAME:CEST
DTSTART:20250330T010000
END:DAYLIGHT
BEGIN:STANDARD
TZOFFSETFROM:+0200
TZOFFSETTO:+0100
TZNAME:CET
DTSTART:20251026T010000
END:STANDARD
BEGIN:DAYLIGHT
TZOFFSETFROM:+0100
TZOFFSETTO:+0200
TZNAME:CEST
DTSTART:20260329T010000
END:DAYLIGHT
BEGIN:STANDARD
TZOFFSETFROM:+0200
TZOFFSETTO:+0100
TZNAME:CET
DTSTART:20261025T010000
END:STANDARD
BEGIN:DAYLIGHT
TZOFFSETFROM:+0100
TZOFFSETTO:+0200
TZNAME:CEST
DTSTART:20270328T010000
END:DAYLIGHT
BEGIN:STANDARD
TZOFFSETFROM:+0200
TZOFFSETTO:+0100
TZNAME:CET
DTSTART:20271031T010000
END:STANDARD
END:VTIMEZONE
BEGIN:VEVENT
DTSTART;TZID=Europe/Berlin:20260207T180000
DTEND;TZID=Europe/Berlin:20260207T200000
DTSTAMP:20260423T101535
CREATED:20260127T170002Z
LAST-MODIFIED:20260127T170002Z
UID:323-1770487200-1770494400@asv-miehlen.com
SUMMARY:Jahreshauptversammlung
DESCRIPTION:
URL:https://asv-miehlen.com/event/jahreshauptversammlung/
LOCATION:Gaststätte am Hauserbachsee
END:VEVENT
BEGIN:VEVENT
DTSTART;TZID=Europe/Berlin:20260214T080000
DTEND;TZID=Europe/Berlin:20260214T120000
DTSTAMP:20260423T101535
CREATED:20260127T172639Z
LAST-MODIFIED:20260127T172639Z
UID:327-1771056000-1771070400@asv-miehlen.com
SUMMARY:Arbeitseinsatz
DESCRIPTION:
URL:https://asv-miehlen.com/event/arbeitseinsatz/
END:VEVENT
BEGIN:VEVENT
DTSTART;TZID=Europe/Berlin:20260228T080000
DTEND;TZID=Europe/Berlin:20260228T120000
DTSTAMP:20260423T101535
CREATED:20260127T163845Z
LAST-MODIFIED:20260127T163845Z
UID:329-1772265600-1772280000@asv-miehlen.com
SUMMARY:Arbeitseinsatz
DESCRIPTION:
URL:https://asv-miehlen.com/event/arbeitseinsatz-2/
END:VEVENT
END:VCALENDAR